Workbook

Sheet 2024一般预计完成
A1: 表一：
A2: 2024年临港开发区一般公共预算完成情况表
A3: 单位：万元
A4: 收 入 项 目 | B4: 2024年 预算数 | C4: 2024年预算调整数 | D4: 2024年 预计完成数 | E4: 完成 比例 | F4: 支 出 项 目 | G4: 2024年 预算数 | H4: 2024年 预算调整数 | I4: 2024年 预计完成数 | J4: 完成 比例
A5: 一般公共预算收入合计 | B5: =B6+B16 -> 480863 | C5: =C6+C16 -> 435067 | D5: =D6+D16 -> 441952 | E5: =D5/C5 -> 1.0158251 | F5: 一般公共预算支出合计 | G5: =SUM(G6:G25) -> 239633 | H5: =SUM(H6:H25) -> 227547 | I5: =SUM(I6:I25) -> 233039.89 | J5: =I5/H5 -> 1.0241396
A6: 1. 税收收入 | B6: =SUM(B7:B15) -> 458936 | C6: =SUM(C7:C15) -> 419110 | D6: =SUM(D7:D15) -> 425333 | E6: =D6/C6 -> 1.0148481 | F6: 1.一般公共服务支出 | G6: 30483 | H6: 30483 | I6: 28331.46 | J6: =I6/H6 -> 0.92941836 | K6: 24105 | L6: =K6/11*12 -> 26296.364 | M6: 37440.95
A7: 增值税 | B7: =223467 -> 223467 | C7: 172503 | D7: 177829 | E7: =D7/C7 -> 1.0308748 | F7: 2.公共安全支出 | G7: 11446 | H7: 11453 | I7: 10623.2 | J7: =I7/H7 -> 0.92754737 | K7: 9595 | L7: =K7/11*12 -> 10467.273 | M7: 10888.79
A8: 企业所得税（40%） | B8: 79745 | C8: 94790 | D8: 90665 | E8: =D8/C8 -> 0.95648275 | F8: 3.教育支出 | G8: 53437 | H8: =68623-3000 -> 65623 | I8: 57937.2 | J8: =I8/H8 -> 0.88287948 | K8: 65589 | L8: =K8/11*12 -> 71551.636 | M8: 45772.86
A9: 个人所得税（40%） | B9: 24851 | C9: 23085 | D9: 28136 | E9: =D9/C9 -> 1.2188001 | F9: 4.科学技术支出 | G9: 7184 | H9: 5544 | I9: 6724.03 | J9: =I9/H9 -> 1.2128481 | K9: 4276 | L9: =K9/11*12 -> 4664.7273 | M9: 54.64
A10: 城市维护建设税 | B10: 30232 | C10: 23197 | D10: 23999 | E10: =D10/C10 -> 1.0345734 | F10: 5.文化旅游体育与传媒支出 | G10: 287 | H10: 260 | I10: 307 | J10: =I10/H10 -> 1.1807692 | K10: 260 | L10: =K10/11*12 -> 283.63636 | M10: 326.92
A11: 房产税 | B11: 24229 | C11: 26636 | D11: 25441 | E11: =D11/C11 -> 0.95513591 | F11: 6.社会保障和就业支出 | G11: 50232 | H11: 46010 | I11: 52566 | J11: =I11/H11 -> 1.1424908 | K11: 49774 | L11: =K11/11*12 -> 54298.909 | M11: 47001.12
A12: 土地增值税 | B12: 6000 | C12: 5169 | D12: 5611 | E12: =D12/C12 -> 1.0855098 | F12: 7.卫生健康支出 | G12: 22693 | H12: 15427 | I12: 18941 | J12: =I12/H12 -> 1.2277825 | K12: 23427 | L12: =K12/11*12 -> 25556.727 | M12: 26470.42
A13: 契税 | B13: 13781 | C13: 14308 | D13: 15892 | E13: =D13/C13 -> 1.1107073 | F13: 8.节能环保支出 | G13: 9989 | H13: 7861 | I13: 9486 | J13: =I13/H13 -> 1.2067167 | K13: 7668 | L13: =K13/11*12 -> 8365.0909 | M13: 926.31
A14: 城镇土地使用税 | B14: 20757 | C14: 17859 | D14: 18284 | E14: =D14/C14 -> 1.0237975 | F14: 9.城乡社区支出 | G14: 3646 | H14: 3500 | I14: 4932 | J14: =I14/H14 -> 1.4091429 | K14: 16987 | L14: =K14/11*12 -> 18531.273 | M14: 21527.77
A15: 其他各项税收 | B15: 35874 | C15: 41563 | D15: 39476 | E15: =D15/C15 -> 0.94978707 | F15: 10.农林水支出 | G15: 14480 | H15: 12773 | I15: 14232 | J15: =I15/H15 -> 1.1142253 | K15: 12773 | L15: =K15/11*12 -> 13934.182 | M15: 12258.21
A16: 2. 非税收入 | B16: =SUM(B17:B22) -> 21927 | C16: =SUM(C17:C22) -> 15957 | D16: =SUM(D17:D22) -> 16619 | E16: =D16/C16 -> 1.0414865 | F16: 11.交通运输支出 | G16: 3200 | H16: 3200 | I16: 4233 | J16: =I16/H16 -> 1.3228125 | K16: 4124 | L16: =K16/11*12 -> 4498.9091 | M16: 8.94
A17: 专项收入 | B17: 21927 | C17: 15957 | D17: 16618 | E17: =D17/C17 -> 1.0414238 | F17: 12.资源勘探工业信息等支出 | G17: 11219 | H17: =7802-3293 -> 4509 | I17: 4424 | J17: =I17/H17 -> 0.98114881 | L17: =K17/11*12 -> 0 | M17: 99.1
A18: 行政事业性收费收入 | F18: 13.商业服务业等支出 | L18: =K18/11*12 -> 0 | M18: 0
A19: 国有资本经营收入 | F19: 14.自然资源海洋气象等支出 | L19: =K19/11*12 -> 0 | M19: 0
A20: 罚没收入 | F20: 15.住房保障支出 | G20: 17886 | H20: =18604 -> 18604 | I20: 17637 | J20: =I20/H20 -> 0.94802193 | K20: 16116 | L20: =K20/11*12 -> 17581.091 | M20: 16083.99
A21: 国有资源（资产）有偿使用收入 | F21: 16.粮油物资储备支出 | L21: =K21/11*12 -> 0 | M21: 0
A22: 其他收入 | D22: 1 | F22: 17.灾害防治及应急管理支出 | G22: 2873 | H22: 2300 | I22: 2666 | J22: =I22/H22 -> 1.1591304 | K22: 2269 | L22: =K22/11*12 -> 2475.2727 | M22: 224.86
F23: 18.其他各项支出 | M23: 1284.49
F24: 19.债务付息支出 | G24: 578 | I24: 0 | M24: 0
F25: 20.债务发行费支出 | I25: 0 | M25: 0

Sheet 2024一般执行
A1: 表二：
A2: 2024年临港开发区一般公共预算收支执行情况表
A3: 单位：万元
A4: 收 入 项 目 | B4: 2024年 预计完成数 | C4: 2023年 决算数 | D4: 增长率 | E4: 支 出 项 目 | F4: 2024年 预计完成数 | G4: 2023年 决算数 | H4: 增长率
A5: 一般公共预算收入合计 | B5: ='2024一般预计完成'!D5 -> 441952 | C5: =C6+C16 -> 457965 | D5: =B5/C5-1 -> -0.034965554 | E5: 一般公共预算支出合计 | F5: =SUM(F6:F25) -> 233039.89 | G5: =SUM(G6:G25) -> 240990 | H5: =F5/G5-1 -> -0.032989377
A6: 1. 税收收入 | B6: ='2024一般预计完成'!D6 -> 425333 | C6: 437215 | D6: =B6/C6-1 -> -0.027176561 | E6: 1.一般公共服务支出 | F6: 28331.46 | G6: 28316 | H6: =F6/G6-1 -> 0.00054598107
A7: 增值税 | B7: ='2024一般预计完成'!D7 -> 177829 | C7: 217273 | D7: =B7/C7-1 -> -0.18154119 | E7: 2.公共安全支出 | F7: 10623.2 | G7: 10453 | H7: =F7/G7-1 -> 0.016282407
A8: 企业所得税（40%） | B8: ='2024一般预计完成'!D8 -> 90665 | C8: 76453 | D8: =B8/C8-1 -> 0.18589199 | E8: 3.教育支出 | F8: 57937.2 | G8: 49667 | H8: =F8/G8-1 -> 0.16651298
A9: 个人所得税（40%） | B9: ='2024一般预计完成'!D9 -> 28136 | C9: 23843 | D9: =B9/C9-1 -> 0.18005285 | E9: 4.科学技术支出 | F9: 6724.03 | G9: 6013 | H9: =F9/G9-1 -> 0.11824879
A10: 城市维护建设税 | B10: ='2024一般预计完成'!D10 -> 23999 | C10: 29847 | D10: =B10/C10-1 -> -0.19593259 | E10: 5.文化旅游体育与传媒支出 | F10: 307 | G10: 341 | H10: =F10/G10-1 -> -0.099706745
A11: 房产税 | B11: ='2024一般预计完成'!D11 -> 25441 | C11: 21058 | D11: =B11/C11-1 -> 0.20813942 | E11: 6.社会保障和就业支出 | F11: 52566 | G11: 52939 | H11: =F11/G11-1 -> -0.0070458452
A12: 土地增值税 | B12: ='2024一般预计完成'!D12 -> 5611 | C12: 5010 | D12: =B12/C12-1 -> 0.11996008 | E12: 7.卫生健康支出 | F12: 18941 | G12: 20962 | H12: =F12/G12-1 -> -0.096412556
A13: 契税 | B13: ='2024一般预计完成'!D13 -> 15892 | C13: 13435 | D13: =B13/C13-1 -> 0.18288054 | E13: 8.节能环保支出 | F13: 9486 | G13: 9222 | H13: =F13/G13-1 -> 0.028627196
A14: 城镇土地使用税 | B14: ='2024一般预计完成'!D14 -> 18284 | C14: 17839 | D14: =B14/C14-1 -> 0.024945344 | E14: 9.城乡社区支出 | F14: 4932 | G14: 4404 | H14: =F14/G14-1 -> 0.11989101
A15: 其他各项税收 | B15: ='2024一般预计完成'!D15 -> 39476 | C15: 32457 | D15: =B15/C15-1 -> 0.21625535 | E15: 10.农林水支出 | F15: 14232 | G15: 14509 | H15: =F15/G15-1 -> -0.019091598
A16: 2. 非税收入 | B16: ='2024一般预计完成'!D16 -> 16619 | C16: 20750 | D16: =B16/C16-1 -> -0.19908434 | E16: 11.交通运输支出 | F16: 4233 | G16: 4160 | H16: =F16/G16-1 -> 0.017548077
A17: 专项收入 | B17: ='2024一般预计完成'!D17 -> 16618 | C17: 20750 | D17: =B17/C17-1 -> -0.19913253 | E17: 12.资源勘探工业信息等支出 | F17: 4424 | G17: 17816 | H17: =F17/G17-1 -> -0.75168388
A18: 行政事业性收费收入 | E18: 13.商业服务业等支出
A19: 国有资本经营收入 | E19: 14.自然资源海洋气象等支出
A20: 罚没收入 | E20: 15.住房保障支出 | F20: 17637 | G20: 18953 | H20: =F20/G20-1 -> -0.069434918
A21: 国有资源（资产）有偿使用收入 | E21: 16.粮油物资储备支出
A22: 其他收入 | B22: 1 | E22: 17.灾害防治及应急管理支出 | F22: 2666 | G22: 2657 | H22: =F22/G22-1 -> 0.0033872789
E23: 18.其他各项支出
E24: 19.债务付息支出 | G24: 578 | H24: =F24/G24-1 -> -1
E25: 20.债务发行费支出

Sheet 2024一般平衡
A1: 表三：
A2: 2024年临港开发区一般公共预算平衡情况表
A3: 单位：万元
A4: 项 目 | B4: 金 额 | C4: 项 目 | D4: 金 额
A5: 1.一般公共预算收入 | B5: ='2024一般预计完成'!D5 -> 441952 | C5: 1.一般公共预算支出 | D5: ='2024一般预计完成'!I5 -> 233039.89
A6: 2.上级补助收入 | B6: 50185 | C6: 2.上解上级支出 | D6: =B10-D5 -> 259097.11
A7: 3.债务转贷收入 | C7: 3.债务还本支出
A8: 4.调入资金及动用预算稳定调节基金 | C8: 4.安排预算稳定调节基金
A9: 5.上年结余及结转收入 | C9: 5.年终结余结转资金
A10: 收入总计 | B10: =SUM(B5:B9) -> 492137 | C10: 支出总计 | D10: =SUM(D5:D9) -> 492137

Sheet 2025一般收支
A1: 表四：
A2: 2025年临港开发区一般公共预算收支预算表
A3: 单位：万元
A4: 收 入 项 目 | B4: 2024年 完成数 | C4: 2025年 预算数 | D4: 增长率 | E4: 支 出 项 目 | F4: 2024年 预计完成数 | G4: 2025年 预算数 | H4: 增长率
A5: 一般公共预算收入合计 | B5: ='2024一般预计完成'!D5 -> 441952 | C5: =C6+C16 -> 462282 | D5: =C5/B5-1 -> 0.046000471 | E5: 一般公共预算支出合计 | F5: ='2024一般预计完成'!I5 -> 233039.89 | G5: =SUM(G6:G25) -> 233074.46 | H5: =G5/F5-1 -> 0.0001483437
A6: 1. 税收收入 | B6: ='2024一般预计完成'!D6 -> 425333 | C6: =SUM(C7:C15) -> 445555 | D6: =C6/B6-1 -> 0.047543924 | E6: 1.一般公共服务支出 | F6: ='2024一般预计完成'!I6 -> 28331.46 | G6: =F6-36 -> 28295.46 | H6: =G6/F6-1 -> -0.0012706722
A7: 国内增值税 | B7: ='2024一般预计完成'!D7 -> 177829 | C7: 178647 | D7: =C7/B7-1 -> 0.0045999246 | E7: 2.公共安全支出 | F7: ='2024一般预计完成'!I7 -> 10623.2 | G7: 10903 | H7: =G7/F7-1 -> 0.02633858
A8: 企业所得税（40%） | B8: ='2024一般预计完成'!D8 -> 90665 | C8: 106357 | D8: =C8/B8-1 -> 0.17307671 | E8: 3.教育支出 | F8: ='2024一般预计完成'!I8 -> 57937.2 | G8: =52057+2250 -> 54307 | H8: =G8/F8-1 -> -0.062657498
A9: 个人所得税（40%） | B9: ='2024一般预计完成'!D9 -> 28136 | C9: =27595+628 -> 28223 | D9: =C9/B9-1 -> 0.003092124 | E9: 4.科学技术支出 | F9: ='2024一般预计完成'!I9 -> 6724.03 | G9: 5540 | H9: =G9/F9-1 -> -0.17608934
A10: 城市维护建设税 | B10: ='2024一般预计完成'!D10 -> 23999 | C10: 24062 | D10: =C10/B10-1 -> 0.0026251094 | E10: 5.文化旅游体育与传媒支出 | F10: ='2024一般预计完成'!I10 -> 307 | G10: 274 | H10: =G10/F10-1 -> -0.10749186
A11: 房产税 | B11: ='2024一般预计完成'!D11 -> 25441 | C11: 27822 | D11: =C11/B11-1 -> 0.093589088 | E11: 6.社会保障和就业支出 | F11: ='2024一般预计完成'!I11 -> 52566 | G11: =48343-505 -> 47838 | H11: =G11/F11-1 -> -0.08994407
A12: 土地增值税 | B12: ='2024一般预计完成'!D12 -> 5611 | C12: 6243 | D12: =C12/B12-1 -> 0.11263589 | E12: 7.卫生健康支出 | F12: ='2024一般预计完成'!I12 -> 18941 | G12: 18533 | H12: =G12/F12-1 -> -0.021540573
A13: 契税 | B13: ='2024一般预计完成'!D13 -> 15892 | C13: 13902 | D13: =C13/B13-1 -> -0.12522024 | E13: 8.节能环保支出 | F13: ='2024一般预计完成'!I13 -> 9486 | G13: =9604 -> 9604 | H13: =G13/F13-1 -> 0.012439384
A14: 城镇土地使用税 | B14: ='2024一般预计完成'!D14 -> 18284 | C14: 19131 | D14: =C14/B14-1 -> 0.046324655 | E14: 9.城乡社区支出 | F14: ='2024一般预计完成'!I14 -> 4932 | G14: =3718+1579 -> 5297 | H14: =G14/F14-1 -> 0.074006488
A15: 其他各项税收 | B15: ='2024一般预计完成'!D15 -> 39476 | C15: 41168 | D15: =C15/B15-1 -> 0.042861485 | E15: 10.农林水支出 | F15: ='2024一般预计完成'!I15 -> 14232 | G15: 13759 | H15: =G15/F15-1 -> -0.033234963
A16: 2. 非税收入 | B16: ='2024一般预计完成'!D16 -> 16619 | C16: =SUM(C17:C22) -> 16727 | D16: =C16/B16-1 -> 0.006498586 | E16: 11.交通运输支出 | F16: ='2024一般预计完成'!I16 -> 4233 | G16: 4261 | H16: =G16/F16-1 -> 0.0066146941
A17: 专项收入 | B17: ='2024一般预计完成'!D17 -> 16618 | C17: 16727 | D17: =C17/B17-1 -> 0.0065591527 | E17: 12.资源勘探工业信息等支出 | F17: ='2024一般预计完成'!I17 -> 4424 | G17: =8499+4500-137 -> 12862 | H17: =G17/F17-1 -> 1.9073237
A18: 行政事业性收费收入 | E18: 13.商业服务业等支出
A19: 国有资本经营收入 | E19: 14.自然资源海洋气象等支出
A20: 罚没收入 | E20: 15.住房保障支出 | F20: ='2024一般预计完成'!I20 -> 17637 | G20: =18106+1000 -> 19106 | H20: =G20/F20-1 -> 0.083290809
A21: 国有资源（资产）有偿使用收入 | E21: 16.粮油物资储备支出
A22: 其他收入 | B22: 1 | E22: 17.灾害防治及应急管理支出 | F22: ='2024一般预计完成'!I22 -> 2666 | G22: 2495 | H22: =G22/F22-1 -> -0.064141035
E23: 18.其他各项支出
E24: 19.债务付息支出
E25: 20.债务发行费支出

Sheet 2025一般平衡
A1: 表五：
A2: 2025年临港开发区一般公共预算平衡情况表
A3: 单位：万元
A4: 项 目 | B4: 金 额 | C4: 项 目 | D4: 金 额
A5: 1.一般公共预算收入 | B5: ='2025一般收支'!C5 -> 462282 | C5: 1.一般公共预算支出 | D5: ='2025一般收支'!G5 -> 233074.46
A6: 2.上级补助收入 | B6: 35000 | C6: 2.上解上级支出 | D6: =B10-D5 -> 264207.54
A7: 3.债务转贷收入 | C7: 3.债务还本支出
A8: 4.调入资金及动用预算稳定调节基金 | C8: 4.安排预算稳定调节基金
A9: 5.上年结余及结转收入 | B9: ='2024一般平衡'!D9 -> 0 | C9: 5.年终结余结转资金
A10: 收入总计 | B10: =SUM(B5:B9) -> 497282 | C10: 支出总计 | D10: =SUM(D5:D9) -> 497282

Sheet 2024政府基金执行
A1: 表六：
A2: 2024年临港开发区政府性基金预算收支执行情况表
A3: 单位：万元
A4: 收 入 项 目 | B4: 2024年 预算数 | C4: 2024年 预算调整数 | D4: 2024年 完成数 | E4: 完成 比例 | F4: 支 出 项 目 | G4: 2024年 预算数 | H4: 2024年 预算调整数 | I4: 2024年 预计完成数 | J4: 完成 比例
A5: 基金收入合计 | B5: 193663 | C5: 113836 | D5: =SUM(D6:D11) -> 133836.54 | E5: =D5/C5 -> 1.1756961 | F5: 基金支出合计 | G5: 199663 | H5: 112585 | I5: =I6+I10+I12+I13 -> 137957.75 | J5: =I5/H5 -> 1.2253653
A6: 1.国有土地使用权出让收入 | B6: 193663 | C6: 113836 | D6: 133836.54 | E6: =D6/C6 -> 1.1756961 | F6: 1.城乡社区支出 | G6: 192212 | H6: 112385 | I6: =SUM(I7:I9) -> 137889 | J6: =I6/H6 -> 1.2269342
A7: 2.国有土地收益基金收入 | F7: 其中：国有土地使用权出让收入及对应专项债务收入安排的支出 | G7: 186412 | H7: 106585 | I7: 131924.56 | J7: =I7/H7 -> 1.2377404
A8: 3.农业土地开发资金收入 | F8: 城市基础设施配套费安排的支出 | G8: 5000 | H8: 5000 | I8: 5673.58 | J8: =I8/H8 -> 1.134716
A9: 4.城市基础设施配套费收入 | F9: 污水处理费安排的支出 | G9: 800 | H9: 800 | I9: 290.86 | J9: =I9/H9 -> 0.363575
A10: 5.污水处理费收入 | F10: 2.其他各项支出 | G10: 200 | H10: 200 | I10: =I11 -> 68.755 | J10: =I10/H10 -> 0.343775
A11: 6.其他各项政府性基金收入 | F11: 其中：彩票公益金及对应专项债务收入安排的支出 | G11: 200 | H11: 200 | I11: 68.755 | J11: =I11/H11 -> 0.343775
F12: 3.债务付息支出 | G12: 7251
F13: 4.债务发行费用支出

Sheet 2024政府基金平衡 
A1: 表七：
A2: 2024年临港开发区政府性基金预算平衡情况表
A3: 单位：万元
A4: 项 目 | B4: 金 额 | C4: 项 目 | D4: 金 额
A5: 1.政府性基金收入 | B5: ='2024政府基金执行'!D5 -> 133836.54 | C5: 1.政府性基金支出 | D5: ='2024政府基金执行'!I5 -> 137957.75
A6: 2.上级补助收入 | B6: 11337.904 | C6: 2.上解上级支出 | D6: =B10-D5 -> 7216.6901
A7: 3.调入资金 | C7: 3.政府性基金调出资金
A8: 4.债务转贷收入 | C8: 4.债务还本支出
A9: 5.上年结转及结余 | C9: 5.年终结余及结转
A10: 收入总计 | B10: =B5+B6+B7+B8+B9 -> 145174.44 | C10: 支出总计 | D10: =D5+D6+D7+D8+D9 -> 145174.44

Sheet 2025政府基金收支
A1: 表八：
A2: 2025年临港开发区政府性基金预算收支预算表
A3: 单位：万元
A4: 收 入 项 目 | B4: 2024年 完成数 | C4: 2025年 预算数 | D4: 增长率 | E4: 支 出 项 目 | F4: 2024年 预计完成数 | G4: 2025年 预算数 | H4: 增长率
A5: 基金收入合计 | B5: ='2024政府基金执行'!D5 -> 133836.54 | C5: =SUM(C6:C11) -> 117011 | D5: =C5/B5-1 -> -0.12571709 | E5: 基金支出合计 | F5: ='2024政府基金执行'!I5 -> 137957.75 | G5: =G6+G10+G12+G13 -> 107011 | H5: =G5/F5-1 -> -0.22432051
A6: 1.国有土地使用权出让收入 | B6: ='2024政府基金执行'!D6 -> 133836.54 | C6: 117011 | D6: =C6/B6-1 -> -0.12571709 | E6: 1.城乡社区支出 | F6: ='2024政府基金执行'!I6 -> 137889 | G6: 106811 | H6: =G6/F6-1 -> -0.22538418
A7: 2.国有土地收益基金收入 | E7: 其中：国有土地使用权出让收入及对应专项债务收入安排的支出 | F7: ='2024政府基金执行'!I7 -> 131924.56 | G7: 101011 | H7: =G7/F7-1 -> -0.23432755
A8: 3.农业土地开发资金收入 | E8: 城市基础设施配套费安排的支出 | F8: ='2024政府基金执行'!I8 -> 5673.58 | G8: 5600 | H8: =G8/F8-1 -> -0.012968884
A9: 4.城市基础设施配套费收入 | E9: 污水处理费安排的支出 | F9: ='2024政府基金执行'!I9 -> 290.86 | G9: 200 | H9: =G9/F9-1 -> -0.31238396
A10: 5.污水处理费收入 | E10: 2.其他各项支出 | F10: ='2024政府基金执行'!I10 -> 68.755 | G10: 200 | H10: =G10/F10-1 -> 1.9088794
A11: 6.其他各项政府性基金收入 | E11: 其中：彩票公益金安排的支出 | F11: ='2024政府基金执行'!I11 -> 68.755 | G11: 200 | H11: =G11/F11-1 -> 1.9088794
E12: 3.债务付息支出
E13: 4.债务发行费用支出

Sheet 2025政府基金平衡
A1: 表九：
A2: 2025年临港开发区政府性基金预算平衡情况表
A3: 单位：万元
A4: 项 目 | B4: 金 额 | C4: 项 目 | D4: 金 额
A5: 1.政府性基金收入 | B5: ='2025政府基金收支'!C5 -> 117011 | C5: 1.政府性基金支出 | D5: ='2025政府基金收支'!G5 -> 107011
A6: 2.上级补助收入 | B6: 6000 | C6: 2.上解上级支出 | D6: 16000
A7: 3.调入资金 | C7: 3.政府性基金调出资金
A8: 4.债务转贷收入 | C8: 4.债务还本支出
A9: 5.上年结转及结余 | C9: 5.年终结余及结转
A10: 收入总计 | B10: =B5+B6+B7+B8+B9 -> 123011 | C10: 支出总计 | D10: =D5+D6+D7+D8+D9 -> 123011

Sheet 部门收支预算
A1: 表十：
A2: 2025年临港开发区部门收支预算汇总表
A3: 单位：万元
A4: 单位 | B4: 收 入 | H4: 支 出
B5: 合计 | C5: 一般公共预算 | D5: 政府性基金 | E5: 上级转移支付收入 | F5: 财政专户管理资金 | G5: 其他资金 | H5: 合计 | I5: 基本支出 | J5: 项目支出
A6: 合计 | B6: =SUM(B7:B84) -> 207683.13 | C6: =SUM(C7:C84) -> 197946.06 | D6: =SUM(D7:D84) -> 2460 | E6: =SUM(E7:E84) -> 0 | F6: =SUM(F7:F84) -> 0 | G6: =SUM(G7:G84) -> 7277.07 | H6: =I6+J6 -> 207683.13 | I6: =SUM(I7:I84) -> 121248.88 | J6: =SUM(J7:J84) -> 86434.25
A7: 江苏江阴临港经济开发区管理委员会 | B7: =SUM(C7:G7) -> 18917.18 | C7: 18917.18 | H7: =SUM(I7:J7) -> 18917.18 | I7: 18367.88 | J7: 549.3
A8: 江阴市人大常委会临港经济开发区工作委员会 | B8: =SUM(C8:G8) -> 12.72 | C8: 12.72 | H8: =SUM(I8:J8) -> 12.72 | I8: 9.72 | J8: 3
A9: 江阴临港经济开发区党政办公室 | B9: =SUM(C9:G9) -> 186.3 | C9: 186.3 | H9: =SUM(I9:J9) -> 186.3 | I9: 24.3 | J9: 162
A10: 江阴临港经济开发区党群工作部 | B10: =SUM(C10:G10) -> 293.7 | C10: 293.7 | H10: =SUM(I10:J10) -> 293.7 | I10: 15.55 | J10: 278.15
A11: 江阴临港经济开发区监察局（审计局） | B11: =SUM(C11:G11) -> 19.72 | C11: 19.72 | H11: =SUM(I11:J11) -> 19.72 | I11: 9.72 | J11: 10
A12: 江阴临港经济开发区财政局 | B12: =SUM(C12:G12) -> 96.41 | C12: 96.41 | H12: =SUM(I12:J12) -> 96.41 | I12: 40.82 | J12: 55.59
A13: 江阴临港经济开发区经济发展局 | B13: =SUM(C13:G13) -> 31.52 | C13: 31.52 | H13: =SUM(I13:J13) -> 31.52 | I13: 16.52 | J13: 15
A14: 江阴临港经济开发区科学技术局 | B14: =SUM(C14:G14) -> 43.64 | C14: 43.64 | H14: =SUM(I14:J14) -> 43.64 | I14: 12.64 | J14: 31
A15: 江阴临港经济开发区招商局 | B15: =SUM(C15:G15) -> 38.93 | C15: 38.93 | H15: =SUM(I15:J15) -> 38.93 | I15: 16.99 | J15: 21.94
A16: 江阴临港经济开发区建设局 | B16: =SUM(C16:G16) -> 38.27 | C16: 38.27 | H16: =SUM(I16:J16) -> 38.27 | I16: 25.27 | J16: 13
A17: 江阴临港经济开发区港口发展局 | B17: =SUM(C17:G17) -> 11.72 | C17: 11.72 | H17: =SUM(I17:J17) -> 11.72 | I17: 9.72 | J17: 2
A18: 江阴临港经济开发区政务服务局 | B18: =SUM(C18:G18) -> 281 | C18: 281 | H18: =SUM(I18:J18) -> 281 | I18: 154.68 | J18: 126.32
A19: 江阴临港经济开发区执法监督局 | B19: =SUM(C19:G19) -> 19.02 | C19: 19.02 | H19: =SUM(I19:J19) -> 19.02 | I19: 19.02
A20: 江阴综合保税区管理局 | B20: =SUM(C20:G20) -> 58.93 | C20: 58.93 | H20: =SUM(I20:J20) -> 58.93 | I20: 39.13 | J20: 19.8
A21: 江阴临港化工园区管理办公室 | B21: =SUM(C21:G21) -> 205.44 | C21: =H21 -> 205.44 | H21: =SUM(I21:J21) -> 205.44 | I21: =74.34+82 -> 156.34 | J21: 49.1
A22: 江阴长江港口产业园管理办公室 | B22: =SUM(C22:G22) -> 82.79 | C22: 82.79 | H22: =SUM(I22:J22) -> 82.79 | I22: 82.79 | J22: 0
A23: 江阴临港新能源和装备产业园管理办公室 | B23: =SUM(C23:G23) -> 31.68 | C23: 31.68 | H23: =SUM(I23:J23) -> 31.68 | I23: 31.68 | J23: 0
A24: 江阴市“北战”指挥部办公室 | B24: =SUM(C24:G24) -> 100 | C24: 100 | H24: =SUM(I24:J24) -> 100 | I24: 17.45 | J24: 82.55
A25: 江阴临港经济开发区规划展览馆 | B25: =SUM(C25:G25) -> 135.37 | C25: 135.37 | H25: =SUM(I25:J25) -> 135.37 | I25: 79.43 | J25: 55.94
A26: 江阴临港经济开发区协税护税领导小组办公室 | B26: =SUM(C26:G26) -> 214.97 | C26: 214.97 | H26: =SUM(I26:J26) -> 214.97 | I26: 193.93 | J26: 21.04
A27: 江阴市公安局巡特警大队临港巡特警中队 | B27: =SUM(C27:G27) -> 613.22 | C27: 613.22 | H27: =SUM(I27:J27) -> 613.22 | I27: 588.22 | J27: 25
A28: 江阴市临港成人教育中心校 | B28: =SUM(C28:G28) -> 624.95 | C28: 624.95 | H28: =SUM(I28:J28) -> 624.95 | I28: 624.95 | J28: 0
A29: 江阴市人民政府夏港街道办事处 | B29: =SUM(C29:G29) -> 16968.19 | C29: =I29+J29 -> 16968.19 | H29: =I29+J29 -> 16968.19 | I29: 5255.72 | J29: 11712.47
A30: 江阴市公安局夏港派出所 | B30: =SUM(C30:G30) -> 2776.96 | C30: =I30 -> 2776.96 | H30: =I30+J30 -> 2776.96 | I30: 2776.96
A31: 江阴市公安局交通警察大队城西中队 | B31: =SUM(C31:G31) -> 367.91 | C31: =I31 -> 367.91 | H31: =I31+J31 -> 367.91 | I31: 367.91
A32: 江阴市夏港中学 | B32: =SUM(C32:G32) -> 4475.71 | C32: =I32 -> 4475.71 | H32: =I32+J32 -> 4475.71 | I32: 4475.71
A33: 江阴市夏港实验小学 | B33: =SUM(C33:G33) -> 5329.4 | C33: =I33 -> 5329.4 | H33: =I33+J33 -> 5329.4 | I33: 5329.4
A34: 江阴市夏港实验幼儿园 | B34: =SUM(C34:G34) -> 1397.6 | C34: =I34 -> 1397.6 | H34: =I34+J34 -> 1397.6 | I34: 1397.6
A35: 江阴市夏港社区卫生服务中心 | B35: =SUM(C35:G35) -> 2540.52 | C35: =I35-G35 -> 1232.52 | G35: 1308 | H35: =I35+J35 -> 2540.52 | I35: 2540.52
A36: 江阴市夏港环卫所 | B36: =SUM(C36:G36) -> 16 | C36: =I36 -> 16 | H36: =I36+J36 -> 16 | I36: 16
A37: 江阴市夏港街道乐善颐养中心 | B37: =SUM(C37:G37) -> 27.62 | C37: =I37 -> 27.62 | H37: =I37+J37 -> 27.62 | I37: 27.62
A38: 江阴市夏港街道殡葬管理办公室 | B38: =SUM(C38:G38) -> 26.09 | C38: =I38 -> 26.09 | H38: =I38+J38 -> 26.09 | I38: 26.09
A39: 江阴市临港科创学校 | B39: =SUM(C39:G39) -> 1801 | C39: =I39 -> 1801 | H39: =I39+J39 -> 1801 | I39: 1801
A40: 江阴市人民政府申港街道办事处 | B40: =SUM(C40:G40) -> 24760 | C40: =H40-G40 -> 24760 | H40: =SUM(I40:J40) -> 24760 | I40: 4914 | J40: 19846
...

Sheet 基本支出表
A1: 表十一：
A2: 2025年临港开发区部门预算基本支出表 （按经济科目分类）
D3: 金额单位:万元
A4: 序号 | B4: 部门名称 | C4: 基本支出项目
C5: 合计 | D5: 工资福利支出 | E5: 商品和服务支出 | F5: 对个人和家庭的补助
B6: 合计 | C6: =SUM(C7:C72) -> 121249.12 | D6: =SUM(D7:D72) -> 97944.7 | E6: =SUM(E7:E72) -> 17177.41 | F6: =SUM(F7:F72) -> 6127.01
A7: 1 | B7: 江苏江阴临港经济开发区管理委员会 | C7: =SUM(D7:F7) -> 18367.88 | D7: 16299.38 | E7: =1901.5+20 -> 1921.5 | F7: 147
A8: 2 | B8: 江阴市人大常委会临港经济开发区工作委员会 | C8: =SUM(D8:F8) -> 9.72 | E8: 9.72
A9: 3 | B9: 江阴临港经济开发区党政办公室 | C9: =SUM(D9:F9) -> 24.3 | E9: =22.8+1.5 -> 24.3
A10: 4 | B10: 江阴临港经济开发区党群工作部 | C10: =SUM(D10:F10) -> 15.55 | E10: 15.55
A11: 5 | B11: 江阴临港经济开发区监察局（审计局） | C11: =SUM(D11:F11) -> 9.72 | E11: 9.72
A12: 6 | B12: 江阴临港经济开发区财政局 | C12: =SUM(D12:F12) -> 40.82 | E12: =35.82+5 -> 40.82
A13: 7 | B13: 江阴临港经济开发区经济发展局 | C13: =SUM(D13:F13) -> 16.52 | E13: =15.52+1 -> 16.52
A14: 8 | B14: 江阴临港经济开发区科学技术局 | C14: =SUM(D14:F14) -> 12.64 | E14: 12.64
A15: 9 | B15: 江阴临港经济开发区招商局 | C15: =SUM(D15:F15) -> 16.99 | E15: =14.19+2.8 -> 16.99
A16: 10 | B16: 江阴临港经济开发区建设局 | C16: =SUM(D16:F16) -> 25.27 | E16: =21+4.27 -> 25.27
A17: 11 | B17: 江阴临港经济开发区港口发展局 | C17: =SUM(D17:F17) -> 9.72 | E17: 9.72
A18: 12 | B18: 江阴临港经济开发区政务服务局 | C18: =SUM(D18:F18) -> 154.68 | E18: =149.59+5.09 -> 154.68
A19: 13 | B19: 江阴临港经济开发区执法监督局 | C19: =SUM(D19:F19) -> 19.02 | E19: =18.78+0.24 -> 19.02
A20: 14 | B20: 江阴综合保税区管理局 | C20: =SUM(D20:F20) -> 39.13 | D20: 8.42 | E20: 30.71
A21: 15 | B21: 江阴临港化工园区管理办公室 | C21: =SUM(D21:F21) -> 156.34 | D21: 13.57 | E21: =60.77+82 -> 142.77
A22: 16 | B22: 江阴长江港口产业园管理办公室 | C22: =SUM(D22:F22) -> 82.79 | D22: 10.76 | E22: 72.03
A23: 17 | B23: 江阴临港新能源和装备产业园管理办公室 | C23: =SUM(D23:F23) -> 31.68 | D23: 10.3 | E23: 21.38
A24: 18 | B24: 江阴市“北战”指挥部办公室 | C24: =SUM(D24:F24) -> 17.45 | D24: 4.68 | E24: 12.77
A25: 19 | B25: 江阴临港经济开发区规划展览馆 | C25: =SUM(D25:F25) -> 79.43 | D25: 73 | E25: 6.43
A26: 20 | B26: 江阴临港经济开发区协税护税领导小组办公室 | C26: =SUM(D26:F26) -> 193.93 | D26: =184.04+1.41 -> 185.45 | E26: =8.23+0.25 -> 8.48
A27: 21 | B27: 江阴市公安局巡特警大队临港巡特警中队 | C27: =SUM(D27:F27) -> 588.22 | D27: =484+29.7 -> 513.7 | E27: =67.22+7.3 -> 74.52
A28: 22 | B28: 江阴市临港成人教育中心校 | C28: =SUM(D28:F28) -> 624.95 | D28: 531.61 | E28: 27.94 | F28: 65.4
A29: 23 | B29: 江阴市人民政府夏港街道办事处 | C29: =SUM(D29:F29) -> 5255.72 | D29: 4416.83 | E29: =480.89+161 -> 641.89 | F29: 197
A30: 24 | B30: 江阴市公安局夏港派出所 | C30: =SUM(D30:F30) -> 2776.96 | D30: 2242 | E30: =264.66+10+237.6 -> 512.26 | F30: 22.7
A31: 25 | B31: 江阴市公安局交通警察大队城西中队 | C31: =SUM(D31:F31) -> 367.91 | D31: 280.84 | E31: =61.07+26 -> 87.07
A32: 26 | B32: 江阴市夏港中学 | C32: =SUM(D32:F32) -> 4475.71 | D32: 3870.3 | E32: 333.51 | F32: 271.9
A33: 27 | B33: 江阴市夏港实验小学 | C33: =SUM(D33:F33) -> 5329.4 | D33: 4433 | E33: 470.51 | F33: 425.89
A34: 28 | B34: 江阴市夏港实验幼儿园 | C34: =SUM(D34:F34) -> 1397.6 | D34: 1221.5 | E34: 152.36 | F34: 23.74
A35: 29 | B35: 江阴市夏港社区卫生服务中心 | C35: =SUM(D35:F35) -> 2540.52 | D35: 1091.2 | E35: 1431.13 | F35: 18.19
A36: 30 | B36: 江阴市夏港环卫所 | C36: =SUM(D36:F36) -> 16 | D36: 15 | E36: =1 -> 1
A37: 31 | B37: 江阴市夏港街道乐善颐养中心 | C37: =SUM(D37:F37) -> 27.62 | D37: 11.93 | E37: 15.29 | F37: 0.4
A38: 32 | B38: 江阴市夏港街道殡葬管理办公室 | C38: =SUM(D38:F38) -> 26.09 | D38: 12.8 | E38: =7.29+6 -> 13.29
A39: 33 | B39: 江阴市临港科创学校 | C39: =SUM(D39:F39) -> 1801 | E39: 1801
A40: 34 | B40: 江阴市人民政府申港街道办事处 | C40: =SUM(D40:F40) -> 4914.24 | D40: 4116.25 | E40: 518.88 | F40: 279.11
...

Sheet 重点项目支出 
A1: 表十二：
A2: 2025年临港开发区重点支出项目情况表
A3: 单位：万元
A4: 序号 | B4: 支出项目 | C4: 预算数
A5: 合计 | C5: =C6+C13+C23+C26+C31+C36+C41+C44 -> 158893.9
A6: 一 | B6: 产业强市转型发展类 | C6: 60005 | E6: =C6+D6 -> 60005 | G6: =C6+F6 -> 60005
B7: 工业和信息化专项 | C7: 0 | E7: =C7+D7 -> 0 | G7: =C7+F7 -> 0
B8: 科技创新专项资金 | C8: 3038 | E8: =C8+D8 -> 3038 | G8: =C8+F8 -> 3038
B9: 其他产业发展扶持资金 | C9: 894 | E9: =C9+D9 -> 894 | G9: =C9+F9 -> 894
B10: 人才及创业投资引导资金 | C10: 2330 | E10: =C10+D10 -> 2330 | G10: =C10+F10 -> 2330
B11: 商务发展专项资金 | C11: 852 | E11: =C11+D11 -> 852 | G11: =C11+F11 -> 852
B12: 重大产业项目专项资金 | C12: 52891 | E12: =C12+D12 -> 52891 | G12: =C12+F12 -> 52891
A13: 二 | B13: 民生事业社会保障类 | C13: =SUM(C14:C22) -> 68501.8 | D13: 4792 | E13: =C13+D13 -> 73293.8 | F13: 2408.5 | G13: =C13+F13 -> 70910.3
B14: 公共交通营运补贴 | C14: 1642 | D14: 1642 | E14: =C14+D14 -> 3284 | G14: =C14+F14 -> 1642
B15: 教育事业专项 | C15: 2495.3 | D15: 2250 | E15: =C15+D15 -> 4745.3 | F15: 73.5 | G15: =C15+F15 -> 2568.8
B16: 其他民生事业社会保障支出 | C16: 17285.4 | D16: 900 | E16: =C16+D16 -> 18185.4 | G16: =C16+F16 -> 17285.4
B17: 社保补助专项 | C17: 34661 | E17: =C17+D17 -> 34661 | G17: =C17+F17 -> 34661
B18: 社会福利专项 | C18: 1537.3 | E18: =C18+D18 -> 1537.3 | F18: 410 | G18: =C18+F18 -> 1947.3
B19: 社会救助专项 | C19: 2113.5 | E19: =C19+D19 -> 2113.5 | F19: 1157 | G19: =C19+F19 -> 3270.5
B20: 社会优抚专项 | C20: 1563.3 | E20: =C20+D20 -> 1563.3 | F20: 726 | G20: =C20+F20 -> 2289.3
B21: 卫生健康专项 | C21: 6988 | E21: =C21+D21 -> 6988 | F21: 3305 | G21: =C21+F21 -> 10293
B22: 文体事业专项 | C22: 216 | E22: =C22+D22 -> 216 | F22: 42 | G22: =C22+F22 -> 258
A23: 三 | B23: 公共安全专项类 | C23: 663 | D23: 0 | E23: =C23+D23 -> 663 | F23: 334 | G23: =C23+F23 -> 997
B24: 法治建设专项 | C24: 93 | E24: =C24+D24 -> 93 | G24: =C24+F24 -> 93
B25: 公共安全专项 | C25: 570 | E25: =C25+D25 -> 570 | F25: 334 | G25: =C25+F25 -> 904
A26: 四 | B26: 生态环保城市维护类 | C26: 11234.3 | D26: 1803 | E26: =C26+D26 -> 13037.3 | F26: 3552 | G26: =C26+F26 -> 14786.3
B27: 城市基础设施运营维护专项资金 | C27: 7140.3 | E27: =C27+D27 -> 7140.3 | F27: 2766 | G27: =C27+F27 -> 9906.3
B28: 规划专项资金 | C28: 863 | D28: 863 | E28: =C28+D28 -> 1726 | G28: =C28+F28 -> 863
B29: 环境保护和环境治理专项 | C29: 1451 | D29: 888 | E29: =C29+D29 -> 2339 | F29: 145 | G29: =C29+F29 -> 1596
B30: 其他生态环保资金 | C30: 1780 | D30: 52 | E30: =C30+D30 -> 1832 | F30: 641 | G30: =C30+F30 -> 2421
A31: 五 | B31: 政府投资类 | C31: 0 | D31: 0 | E31: =C31+D31 -> 0 | G31: =C31+F31 -> 0
B32: PPP项目专项 | C32: 0 | E32: =C32+D32 -> 0 | G32: =C32+F32 -> 0
B33: 政府投资基金 | C33: 0 | E33: =C33+D33 -> 0 | G33: =C33+F33 -> 0
B34: 政府债券利息及化债资金 | C34: 0 | E34: =C34+D34 -> 0 | G34: =C34+F34 -> 0
B35: 重大基础设施建设项目资金 | C35: 0 | E35: =C35+D35 -> 0 | G35: =C35+F35 -> 0
A36: 六 | B36: 三农城乡一体化 | C36: 10309.8 | D36: 0 | E36: =C36+D36 -> 10309.8 | F36: 3514 | G36: =C36+F36 -> 13823.8
B37: 科技镇长团 | C37: 0 | E37: =C37+D37 -> 0 | G37: =C37+F37 -> 0
B38: 粮食储备和管理专项 | C38: 0 | E38: =C38+D38 -> 0 | G38: =C38+F38 -> 0
B39: 农业农村发展专项 | C39: 10013.8 | E39: =C39+D39 -> 10013.8 | F39: 3337 | G39: =C39+F39 -> 13350.8
B40: 水利及农机化建设专项 | C40: 296 | E40: =C40+D40 -> 296 | F40: 177 | G40: =C40+F40 -> 473
...

Sheet 三公 
A1: 表十三：
A2: 2025年临港开发区“三公一会一培”费用预算支出汇总表
A3: 单位：万元
A4: 单位 | B4: 合计 | C4: 公务用车 | E4: 因公出国（境） | F4: 公务接待费用 | G4: 会议经费 | H4: 培训费
C5: 购置费用 | D5: 运行费用
A6: 合计 | B6: =SUM(B7:B63) -> 754.37 | C6: =SUM(C7:C63) -> 25 | D6: =SUM(D7:D63) -> 291.95 | E6: =SUM(E7:E63) -> 60 | F6: =SUM(F7:F63) -> 148.69 | G6: =SUM(G7:G63) -> 12.11 | H6: =SUM(H7:H63) -> 215.5941
A7: 江苏江阴临港经济开发区管理委员会 | B7: =SUM(C7:H7) -> 114.6 | D7: 25 | E7: 60 | F7: 23.3 | G7: 1.8 | H7: 4.5
A8: 江阴市人大常委会临港经济开发区工作委员会 | B8: =SUM(C8:H8) -> 2.8 | F8: 1.9 | H8: 0.9
A9: 江阴临港经济开发区党政办公室 | B9: =SUM(C9:H9) -> 5.17 | F9: 2.47 | G9: 0.9 | H9: 1.8
A10: 江阴临港经济开发区党群工作部 | B10: =SUM(C10:H10) -> 10.35 | F10: 1.35 | G10: 0.9 | H10: 8.1
A11: 江阴临港经济开发区监察局（审计局） | B11: =SUM(C11:H11) -> 2.6 | F11: 1.43 | G11: 0.45 | H11: 0.72
A12: 江阴临港经济开发区财政局 | B12: =SUM(C12:H12) -> 6.25 | F12: 2.56 | G12: 0.54 | H12: 3.15
A13: 江阴临港经济开发区经济发展局 | B13: =SUM(C13:H13) -> 4.42 | F13: 3.52 | H13: 0.9
A14: 江阴临港经济开发区科学技术局 | B14: =SUM(C14:H14) -> 2.57 | F14: 1.4 | G14: 0.27 | H14: 0.9
A15: 江阴临港经济开发区招商局 | B15: =SUM(C15:H15) -> 1.22 | G15: 0.32 | H15: 0.9
A16: 江阴临港经济开发区建设局 | B16: =SUM(C16:H16) -> 3.23 | F16: 1.43 | H16: 1.8
A17: 江阴临港经济开发区港口发展局 | B17: =SUM(C17:H17) -> 2.52 | F17: 1.26 | G17: 0.32 | H17: 0.94
A18: 江阴临港经济开发区政务服务局 | B18: =SUM(C18:H18) -> 3.91 | F18: 1.66 | G18: 0.45 | H18: 1.8
A19: 江阴临港经济开发区执法监督局 | B19: =SUM(C19:H19) -> 2.99 | F19: 1.33 | G19: 0.76 | H19: 0.9
A20: 江阴综合保税区管理局 | B20: =SUM(C20:H20) -> 0.4 | H20: 0.4
A21: 江阴临港化工园区管理办公室 | B21: =SUM(C21:H21) -> 9.2 | F21: 3.8 | G21: 1.8 | H21: 3.6
A22: 江阴长江港口产业园管理办公室 | B22: =SUM(C22:H22) -> 1.8 | F22: 1 | G22: 0.3 | H22: 0.5
A23: 江阴临港新能源和装备产业园管理办公室 | B23: =SUM(C23:H23) -> 3 | F23: 2 | H23: 1
A24: 江阴市“北战”指挥部办公室 | B24: =SUM(C24:H24) -> 3.6 | F24: 1.8 | G24: 0.9 | H24: 0.9
A25: 江阴临港经济开发区规划展览馆 | B25: =SUM(C25:H25) -> 0
A26: 江阴临港经济开发区协税护税领导小组办公室 | B26: =SUM(C26:H26) -> 2.1 | F26: 1.2 | H26: 0.9
A27: 江阴市公安局巡特警大队临港巡特警中队 | B27: =SUM(C27:H27) -> 28.58 | C27: 25 | D27: 2.5 | F27: 0.18 | H27: 0.9
A28: 江阴市临港成人教育中心校 | B28: =SUM(C28:H28) -> 1.35 | F28: 0.45 | H28: 0.9
A29: 江阴市人民政府夏港街道办事处 | B29: 41 | D29: 19.71 | F29: 18 | G29: 1 | H29: 1.8
A30: 江阴市公安局夏港派出所 | B30: 35 | D30: 34.66
A31: 江阴市公安局交通警察大队城西中队 | B31: 6 | D31: 5.67
A32: 江阴市夏港中学 | B32: 28 | F32: 1.2 | G32: 1.4 | H32: 25.4169
A33: 江阴市夏港实验小学 | B33: 28 | H33: 28.8172
A34: 江阴市夏港实验幼儿园 | B34: 5 | H34: 4.8
A35: 江阴市夏港社区卫生服务中心 | B35: 1 | H35: 0.5
A36: 江阴市人民政府申港街道办事处 | B36: =D36+F36+H36 -> 30.75 | D36: 15.74 | E36: 0 | F36: =14.3-1 -> 13.3 | G36: 0 | H36: =2.21-0.5 -> 1.71
A37: 江阴市申港实验小学 | B37: =D37+F37+H37 -> 17.5 | D37: 2.5 | F37: 0 | H37: 15
A38: 江阴市公安局申港派出所 | B38: =D38+F38+H38 -> 27.7 | D38: 27.7 | E38: 0
A39: 江阴市临港实验幼儿园 | B39: =D39+F39+H39 -> 1.8 | C39: 0 | D39: 0 | E39: 0 | F39: 0 | G39: 0 | H39: 1.8
A40: 江阴市申港社区卫生服务中心 | B40: =D40+F40+H40 -> 2.48 | C40: 0 | D40: 0 | E40: 0 | F40: 0.84 | G40: 0 | H40: 1.64
...
